BEGIN:VCALENDAR
VERSION:2.0
PRODID:-//Omraam Mikhael Aivanhov - ECPv6.15.20//NONSGML v1.0//EN
CALSCALE:GREGORIAN
METHOD:PUBLISH
X-ORIGINAL-URL:https://aivanhov.de
X-WR-CALDESC:Veranstaltungen für Omraam Mikhael Aivanhov
REFRESH-INTERVAL;VALUE=DURATION:PT1H
X-Robots-Tag:noindex
X-PUBLISHED-TTL:PT1H
BEGIN:VTIMEZONE
TZID:Europe/Berlin
BEGIN:DAYLIGHT
TZOFFSETFROM:+0100
TZOFFSETTO:+0200
TZNAME:CEST
DTSTART:20180325T010000
END:DAYLIGHT
BEGIN:STANDARD
TZOFFSETFROM:+0200
TZOFFSETTO:+0100
TZNAME:CET
DTSTART:20181028T010000
END:STANDARD
BEGIN:DAYLIGHT
TZOFFSETFROM:+0100
TZOFFSETTO:+0200
TZNAME:CEST
DTSTART:20190331T010000
END:DAYLIGHT
BEGIN:STANDARD
TZOFFSETFROM:+0200
TZOFFSETTO:+0100
TZNAME:CET
DTSTART:20191027T010000
END:STANDARD
BEGIN:DAYLIGHT
TZOFFSETFROM:+0100
TZOFFSETTO:+0200
TZNAME:CEST
DTSTART:20200329T010000
END:DAYLIGHT
BEGIN:STANDARD
TZOFFSETFROM:+0200
TZOFFSETTO:+0100
TZNAME:CET
DTSTART:20201025T010000
END:STANDARD
END:VTIMEZONE
BEGIN:VEVENT
DTSTART;TZID=Europe/Berlin:20191207T120000
DTEND;TZID=Europe/Berlin:20191208T140000
DTSTAMP:20260420T135513
CREATED:20190807T194141Z
LAST-MODIFIED:20190807T194300Z
UID:15371-1575720000-1575813600@aivanhov.de
SUMMARY:Themen-Wochenende
DESCRIPTION:In mehreren Gesprächsrunden werden bestimmte Aspekte aus dem Vortragswerk von O. M. Aivanhov vertieft\, indem die Teilnehmer eigene Gedanken und Erfahrungen zum Thema beisteuern.\nThema: noch nicht festgelegt.\nOffizieller Beginn Samstag 12.00 Uhr\, Eintreffen gegen 11.00 Uhr. Ende Sonntag ca. 14.00 Uhr.\nWer möchte\, kann auch schon am Freitag ab 16.30 Uhr anreisen. Anmeldungen werden bis spätenstens 23. November 2019 erbeten.\nDas Anmeldeformular und weitere Informationen zur Veranstaltung können Sie hier anfordern.
URL:https://aivanhov.de/event/themen-wochenende-5/
LOCATION:In der Region Donauwörth\,\, Donauwörth\, Bayern
CATEGORIES:Themenwochenende
ORGANIZER;CN="UWB e. V.":MAILTO:info@aivanhov.de
END:VEVENT
END:VCALENDAR