BEGIN:VCALENDAR
VERSION:2.0
PRODID:-//Omraam Mikhael Aivanhov - ECPv6.15.20//NONSGML v1.0//EN
CALSCALE:GREGORIAN
METHOD:PUBLISH
X-WR-CALNAME:Omraam Mikhael Aivanhov
X-ORIGINAL-URL:https://aivanhov.de
X-WR-CALDESC:Veranstaltungen für Omraam Mikhael Aivanhov
REFRESH-INTERVAL;VALUE=DURATION:PT1H
X-Robots-Tag:noindex
X-PUBLISHED-TTL:PT1H
BEGIN:VTIMEZONE
TZID:Europe/Berlin
BEGIN:DAYLIGHT
TZOFFSETFROM:+0100
TZOFFSETTO:+0200
TZNAME:CEST
DTSTART:20230326T010000
END:DAYLIGHT
BEGIN:STANDARD
TZOFFSETFROM:+0200
TZOFFSETTO:+0100
TZNAME:CET
DTSTART:20231029T010000
END:STANDARD
BEGIN:DAYLIGHT
TZOFFSETFROM:+0100
TZOFFSETTO:+0200
TZNAME:CEST
DTSTART:20240331T010000
END:DAYLIGHT
BEGIN:STANDARD
TZOFFSETFROM:+0200
TZOFFSETTO:+0100
TZNAME:CET
DTSTART:20241027T010000
END:STANDARD
BEGIN:DAYLIGHT
TZOFFSETFROM:+0100
TZOFFSETTO:+0200
TZNAME:CEST
DTSTART:20250330T010000
END:DAYLIGHT
BEGIN:STANDARD
TZOFFSETFROM:+0200
TZOFFSETTO:+0100
TZNAME:CET
DTSTART:20251026T010000
END:STANDARD
END:VTIMEZONE
BEGIN:VEVENT
DTSTART;TZID=Europe/Berlin:20240715T140000
DTEND;TZID=Europe/Berlin:20240721T140000
DTSTAMP:20260421T183051
CREATED:20240226T140304Z
LAST-MODIFIED:20241015T203400Z
UID:15899-1721052000-1721570400@aivanhov.de
SUMMARY:Sommerwoche mit Schwerpunkt Paneurhythmie
DESCRIPTION:Die Sommerwoche ist immer eine wunderbare Gelegenheit\, das brüderliche Leben zu erfahren und gleichzeitig von den sommerlichen Temperaturen\, dem schönen Wald und der besonderen\, ländlichen Gegend zu profitieren.\nDie Anreise ist (für diejenigen\, die beim Themen-Wochenende nicht dabei sind) ab Sonntag-Nachmittag möglich\, und wie immer kann man auch kürzer oder an einzelnen Tagen teilnehmen.\nDie Programmpunkte sind: Meditation beim Sonnenaufgang\, Essen in Stille\, Paneurhythmie tanzen\, Hören von Vorträgen von O. M. Aivanhov\, Singen der Lieder und gemeinsame Zubereitung des Essens.\nWir freuen uns auf eventuelle Fragen und/oder auf Eure Anmeldung per Mail an: uwb@uwb-ev.de
URL:https://aivanhov.de/event/sommerwoche-mit-schwerpunkt-paneurhythmie/
LOCATION:In der Region Donauwörth\,\, Donauwörth\, Bayern
CATEGORIES:Sommerwoche
ORGANIZER;CN="UWB e. V.":MAILTO:info@aivanhov.de
END:VEVENT
END:VCALENDAR