BEGIN:VCALENDAR
VERSION:2.0
PRODID:-//Omraam Mikhael Aivanhov - ECPv6.15.20//NONSGML v1.0//EN
CALSCALE:GREGORIAN
METHOD:PUBLISH
X-WR-CALNAME:Omraam Mikhael Aivanhov
X-ORIGINAL-URL:https://aivanhov.de
X-WR-CALDESC:Veranstaltungen für Omraam Mikhael Aivanhov
REFRESH-INTERVAL;VALUE=DURATION:PT1H
X-Robots-Tag:noindex
X-PUBLISHED-TTL:PT1H
BEGIN:VTIMEZONE
TZID:Europe/Berlin
BEGIN:DAYLIGHT
TZOFFSETFROM:+0100
TZOFFSETTO:+0200
TZNAME:CEST
DTSTART:20250330T010000
END:DAYLIGHT
BEGIN:STANDARD
TZOFFSETFROM:+0200
TZOFFSETTO:+0100
TZNAME:CET
DTSTART:20251026T010000
END:STANDARD
BEGIN:DAYLIGHT
TZOFFSETFROM:+0100
TZOFFSETTO:+0200
TZNAME:CEST
DTSTART:20260329T010000
END:DAYLIGHT
BEGIN:STANDARD
TZOFFSETFROM:+0200
TZOFFSETTO:+0100
TZNAME:CET
DTSTART:20261025T010000
END:STANDARD
BEGIN:DAYLIGHT
TZOFFSETFROM:+0100
TZOFFSETTO:+0200
TZNAME:CEST
DTSTART:20270328T010000
END:DAYLIGHT
BEGIN:STANDARD
TZOFFSETFROM:+0200
TZOFFSETTO:+0100
TZNAME:CET
DTSTART:20271031T010000
END:STANDARD
END:VTIMEZONE
BEGIN:VEVENT
DTSTART;VALUE=DATE:20260401
DTEND;VALUE=DATE:20260801
DTSTAMP:20260424T113122
CREATED:20260421T090021Z
LAST-MODIFIED:20260423T100446Z
UID:15494-1775001600-1785542399@aivanhov.de
SUMMARY:Alle Veranstaltungen
DESCRIPTION:Die Universelle Weiße Bruderschaft veranstaltet pro Jahr 2 Kongresse\, mehrere Themenwochenenden\, Treffen zum Erlernen der Paneurhythmie und der Lieder\, eine Sommerwoche und weitere Veranstaltungen für Mitglieder und Interessenten.\nDie Teilnehmer haben dort Gelegenheit\, Vorträge von Omraam Mikhael Aivanhov zu hören (simultan-übersetzt vom Französischen ins Deutsche)\, gemeinsam zu meditieren\, den Yoga der Ernährung (in Stille und Aufmerksamkeit und ganz bewusst zu essen) zu praktizieren und die von O. M. Aivanhov empfohlenen Gymnastik-Übungen zu üben. \nVoraussetzung für die Teilnahme ist ein ernsthaftes Interesse am Vertiefen der Lehre von O. M. Aivanhov. \nEine ausführlichere Beschreibung aller Verantaltungen und Aktivitäten finden Sie auf unserer Vereinswebseite: UWB-Deutschland.de
URL:https://aivanhov.de/event/herbstkongress-2020/
CATEGORIES:Kongress
ORGANIZER;CN="UWB e. V.":MAILTO:info@aivanhov.de
END:VEVENT
BEGIN:VEVENT
DTSTART;TZID=Europe/Berlin:20260401T000000
DTEND;TZID=Europe/Berlin:20260731T000000
DTSTAMP:20260424T113122
CREATED:20250409T184350Z
LAST-MODIFIED:20260423T092052Z
UID:16215-1775001600-1785456000@aivanhov.de
SUMMARY:Terminblatt
DESCRIPTION:Die Lehre von Omraam Mikhael Aivanhov wird in Deutschland durch den Verein „Universelle Weiße Bruderschaft in Deutschland e.V.“ gelebt und vertieft. Für Mitglieder und Interessenten gibt es Möglichkeiten an regelmäßigen Treffen teilzunehmen. \nIm Terminblatt haben wir die Termine der örtlichen Gruppentreffen\, der Kongresse\, der Themen-Wochenenden\, der Sing- und Paneurythmie Woche\, der Sommerwoche und alle Angebote per Zoom in einem PDF zusammengefasst. \nTerminblatt von April bis August 2026 – bitte hier klicken \n 
URL:https://aivanhov.de/event/terminblatt/
END:VEVENT
END:VCALENDAR